BEGIN:VCALENDAR
VERSION:2.0
PRODID:SFPL Web Calendar
BEGIN:VEVENT
UID:154253@sfpl.org
DTSTAMP:20260814T220000Z
DTSTART:20260814T220000Z
DTEND:20260814T230000Z
SUMMARY:Workshop: Cotton Ball Launcher
DESCRIPTION:<p>Make a cotton ball launcher out of toilet paper and rubber bands.&nbsp;</p>
LOCATION:Parkside - Parkside Children's Area
CLASS:PUBLIC
TRANSP:TRANSPARENT
END:VEVENT
BEGIN:VALARM
TRIGGER:-PT1440M
ACTION:DISPLAY
DESCRIPTION:Event Reminder - Workshop: Cotton Ball Launcher
END:VALARM
END:VCALENDAR