BEGIN:VCALENDAR
VERSION:2.0
PRODID:SFPL Web Calendar
BEGIN:VEVENT
UID:154351@sfpl.org
DTSTAMP:20260815T220000Z
DTSTART:20260815T220000Z
DTEND:20260815T230000Z
SUMMARY:Activity: LEGO Bridge Challenge
DESCRIPTION:<p>See if you can build LEGO bridges tall and long enough to cross various&nbsp;challenges. Drop in anytime during this collaborative&nbsp;activity.&nbsp;</p><p>For ages 6–12.</p>
LOCATION:Glen Park - Glen Park Meeting Room
CLASS:PUBLIC
TRANSP:TRANSPARENT
END:VEVENT
BEGIN:VALARM
TRIGGER:-PT1440M
ACTION:DISPLAY
DESCRIPTION:Event Reminder - Activity: LEGO Bridge Challenge
END:VALARM
END:VCALENDAR