BEGIN:VCALENDAR
VERSION:2.0
PRODID:SFPL Web Calendar
BEGIN:VEVENT
UID:154408@sfpl.org
DTSTAMP:20260618T220000Z
DTSTART:20260618T220000Z
DTEND:20260618T230000Z
SUMMARY:Workshop: Mosaics with Ali Blum
DESCRIPTION:<p>Explore the art of mosaic-making in this hands-on workshop led by Ali Blum. Participants will design and create their own mosaic using colorful tiles and nature-inspired shapes, learning techniques such as tile cutting, layout and grouting. For ages 12-15. Space limited. Reservations required: (415) 355-2898 (starting June 1).</p><p>Connect: <a href="https://www.aliblumart.com/">Ali Blum Art – Website&nbsp;</a></p>
LOCATION:Ingleside - Ingleside Meeting Room
CLASS:PUBLIC
TRANSP:TRANSPARENT
END:VEVENT
BEGIN:VALARM
TRIGGER:-PT1440M
ACTION:DISPLAY
DESCRIPTION:Event Reminder - Workshop: Mosaics with Ali Blum
END:VALARM
END:VCALENDAR