BEGIN:VCALENDAR
VERSION:2.0
PRODID:SFPL Web Calendar
BEGIN:VEVENT
UID:154425@sfpl.org
DTSTAMP:20260529T210000Z
DTSTART:20260529T210000Z
DTEND:20260529T230000Z
SUMMARY:長者論壇《文化与與長壽》暨百歲詩人吳海生新詩集發布會
DESCRIPTION:<p>長者論壇《文化与與長壽》暨百歲詩人吳海生新詩集發布會. 这个活动以中文进行。&nbsp;</p><p>Discuss how culture plays an important role in supporting people’s healthy lives. There will also be a launch event for the new poetry collection by centenarian poet Wu Haisheng. This program will be conducted in Chinese.&nbsp;</p><p>&nbsp;</p>
LOCATION:Main Library - Koret Lobby
CLASS:PUBLIC
TRANSP:TRANSPARENT
END:VEVENT
BEGIN:VALARM
TRIGGER:-PT1440M
ACTION:DISPLAY
DESCRIPTION:Event Reminder - 長者論壇《文化与與長壽》暨百歲詩人吳海生新詩集發布會
END:VALARM
END:VCALENDAR