BEGIN:VCALENDAR
VERSION:2.0
PRODID:SFPL Web Calendar
BEGIN:VEVENT
UID:154430@sfpl.org
DTSTAMP:20260613T210000Z
DTSTART:20260613T210000Z
DTEND:20260613T223000Z
SUMMARY:Activity: Afternoon of Tinkering
DESCRIPTION:<p>Explore and play with tinkering tools from microprocessors to windmills generating electricity. &nbsp;For ages 9–18. &nbsp;</p>
LOCATION:West Portal - West Portal Children's Area
CLASS:PUBLIC
TRANSP:TRANSPARENT
END:VEVENT
BEGIN:VALARM
TRIGGER:-PT1440M
ACTION:DISPLAY
DESCRIPTION:Event Reminder - Activity: Afternoon of Tinkering
END:VALARM
END:VCALENDAR