BEGIN:VCALENDAR
VERSION:2.0
PRODID:SFPL Web Calendar
BEGIN:VEVENT
UID:154444@sfpl.org
DTSTAMP:20260823T210000Z
DTSTART:20260823T210000Z
DTEND:20260823T230000Z
SUMMARY:Film: Looney Tunes Golden Collection, Coyote and Road Runner Shorts
DESCRIPTION:<p>Wile E. Coyote keeps trying to catch the Road Runner in these classic Chuck Jones cartoons from the 1950s. These originals inspired the <i>Coyote vs. Acme</i> live-action and animated film that is about to appear in theaters.</p><p>Not rated, 70 mins., 1958. Closed captions (CC) in English.</p>
LOCATION:Glen Park - Glen Park Meeting Room
CLASS:PUBLIC
TRANSP:TRANSPARENT
END:VEVENT
BEGIN:VALARM
TRIGGER:-PT1440M
ACTION:DISPLAY
DESCRIPTION:Event Reminder - Film: Looney Tunes Golden Collection, Coyote and Road Runner Shorts
END:VALARM
END:VCALENDAR