BEGIN:VCALENDAR
VERSION:2.0
PRODID:SFPL Web Calendar
BEGIN:VEVENT
UID:154595@sfpl.org
DTSTAMP:20260416T230000Z
DTSTART:20260416T230000Z
DTEND:20260417T000000Z
SUMMARY:Performance: Los Lorcas, Poetry in Concert
DESCRIPTION:<p>In the spirit of Federico Garcia Lorca—gifted musician, legendary poet/playwright and ebullient performer—poets&nbsp;<strong>Partridge Boswell</strong>&nbsp;and&nbsp;<strong>Peter Money</strong>, along with guitarist&nbsp;<strong>Nat Williams&nbsp;</strong>fuse poetry and music in a passionate and surprising mash-up. Los Lorcas blur boundaries between spoken word and song, weaving poetry with Andalusian ballads, blues, rock, folk, reggae, hip hop, Americana and jazz in pursuit of the&nbsp;<i>cante jondo</i>&nbsp;(deep song) Lorca ardently championed.&nbsp;</p><p>Connect: <a href="https://loslorcas.com/">Los Lorcas – Website</a></p>
LOCATION:Bernal Heights - Bernal Heights Meeting Room
CLASS:PUBLIC
TRANSP:TRANSPARENT
END:VEVENT
BEGIN:VALARM
TRIGGER:-PT1440M
ACTION:DISPLAY
DESCRIPTION:Event Reminder - Performance: Los Lorcas, Poetry in Concert
END:VALARM
END:VCALENDAR