BEGIN:VCALENDAR
VERSION:2.0
PRODID:SFPL Web Calendar
BEGIN:VEVENT
UID:154657@sfpl.org
DTSTAMP:20260520T220000Z
DTSTART:20260520T220000Z
DTEND:20260520T230000Z
SUMMARY:Social: Ube Snack Tasting
DESCRIPTION:<p>Taste ube in a variety of different snacks like ice cream, baked goods, a drink and more.</p><p>For ages 8–18.</p>
LOCATION:Excelsior - Excelsior Meeting Room
CLASS:PUBLIC
TRANSP:TRANSPARENT
END:VEVENT
BEGIN:VALARM
TRIGGER:-PT1440M
ACTION:DISPLAY
DESCRIPTION:Event Reminder - Social: Ube Snack Tasting
END:VALARM
END:VCALENDAR