BEGIN:VCALENDAR
VERSION:2.0
PRODID:SFPL Web Calendar
BEGIN:VEVENT
UID:154660@sfpl.org
DTSTAMP:20260811T210000Z
DTSTART:20260811T210000Z
DTEND:20260811T220000Z
SUMMARY:Workshop: Slime Time
DESCRIPTION:<p>Flex your inner chemist skills and mix household ingredients to make slime. &nbsp;For ages 7 and older.&nbsp;</p>
LOCATION:Merced - Merced Patio
CLASS:PUBLIC
TRANSP:TRANSPARENT
END:VEVENT
BEGIN:VALARM
TRIGGER:-PT1440M
ACTION:DISPLAY
DESCRIPTION:Event Reminder - Workshop: Slime Time
END:VALARM
END:VCALENDAR