BEGIN:VCALENDAR
VERSION:2.0
PRODID:SFPL Web Calendar
BEGIN:VEVENT
UID:154766@sfpl.org
DTSTAMP:20260722T203000Z
DTSTART:20260722T203000Z
DTEND:20260722T220000Z
SUMMARY:Workshop: Tie Dye with Permanent Markers
DESCRIPTION:<p>Experiment with permanent markers by making a tie dye bandanna.&nbsp;</p><p>For ages 8–18. Space limited.&nbsp;</p>
LOCATION:Excelsior - Excelsior Meeting Room
CLASS:PUBLIC
TRANSP:TRANSPARENT
END:VEVENT
BEGIN:VALARM
TRIGGER:-PT1440M
ACTION:DISPLAY
DESCRIPTION:Event Reminder - Workshop: Tie Dye with Permanent Markers
END:VALARM
END:VCALENDAR