BEGIN:VCALENDAR
VERSION:2.0
PRODID:SFPL Web Calendar
BEGIN:VEVENT
UID:154825@sfpl.org
DTSTAMP:20260618T210000Z
DTSTART:20260618T210000Z
DTEND:20260618T220000Z
SUMMARY:Workshop: Spam Musubi
DESCRIPTION:<p>Learn how to make Hawaii’s favorite snack, Spam Musubi, in this fun and hands-on cooking workshop. For ages 8–18. Children 12 and under must be accompanied by an adult.&nbsp;</p><p>Space limited. Reservations required: (415) 355-5700 (starting June 1).</p>
LOCATION:Ortega - Ortega Meeting Room
CLASS:PUBLIC
TRANSP:TRANSPARENT
END:VEVENT
BEGIN:VALARM
TRIGGER:-PT1440M
ACTION:DISPLAY
DESCRIPTION:Event Reminder - Workshop: Spam Musubi
END:VALARM
END:VCALENDAR