BEGIN:VCALENDAR
VERSION:2.0
PRODID:SFPL Web Calendar
BEGIN:VEVENT
UID:154867@sfpl.org
DTSTAMP:20260618T163000Z
DTSTART:20260618T163000Z
DTEND:20260618T183000Z
SUMMARY:Activity: SummerMobile at Glen Canyon Park
DESCRIPTION:<p>The SFPL bookmobiles are making weekly summer stops to <a href="https://sfpl.org/locations/bookmobiles-mobile-outreach/summermobile-2026">4 City locations</a>. Browse, check stuff out and explore your City.</p>
LOCATION:Bookmobiles / Mobile Outreach
CLASS:PUBLIC
TRANSP:TRANSPARENT
END:VEVENT
BEGIN:VALARM
TRIGGER:-PT1440M
ACTION:DISPLAY
DESCRIPTION:Event Reminder - Activity: SummerMobile at Glen Canyon Park
END:VALARM
END:VCALENDAR