BEGIN:VCALENDAR
VERSION:2.0
PRODID:SFPL Web Calendar
BEGIN:VEVENT
UID:154889@sfpl.org
DTSTAMP:20260501T220000Z
DTSTART:20260501T220000Z
DTEND:20260502T003000Z
SUMMARY:Social: Teen Test Taker Care Packages
DESCRIPTION:<p>For all those teens getting ready taking exams this month, come pick up a care package with goodies packed by your peers.</p><p>&nbsp;</p><p>For ages 13–18.</p>
LOCATION:Parkside - Parkside Teen's Area
CLASS:PUBLIC
TRANSP:TRANSPARENT
END:VEVENT
BEGIN:VALARM
TRIGGER:-PT1440M
ACTION:DISPLAY
DESCRIPTION:Event Reminder - Social: Teen Test Taker Care Packages
END:VALARM
END:VCALENDAR