BEGIN:VCALENDAR
VERSION:2.0
PRODID:SFPL Web Calendar
BEGIN:VEVENT
UID:154895@sfpl.org
DTSTAMP:20260718T181500Z
DTSTART:20260718T181500Z
DTEND:20260718T194500Z
SUMMARY:Performance: Stories, Music, and Songs with Kirk Waller
DESCRIPTION:<p>Experience African and African American folktales, legends and history brought to life through music, movement, singing and the spoken word by renowned storyteller Kirk Waller.&nbsp;</p><p>This joyful intergenerational program celebrates culture, creativity and connection.</p><p><br>Connect: <a href="www.kirkwaller.com">Kirk Waller – Website&nbsp;</a></p>
LOCATION:Excelsior - Excelsior Meeting Room
CLASS:PUBLIC
TRANSP:TRANSPARENT
END:VEVENT
BEGIN:VALARM
TRIGGER:-PT1440M
ACTION:DISPLAY
DESCRIPTION:Event Reminder - Performance: Stories, Music, and Songs with Kirk Waller
END:VALARM
END:VCALENDAR