BEGIN:VCALENDAR
VERSION:2.0
PRODID:SFPL Web Calendar
BEGIN:VEVENT
UID:154928@sfpl.org
DTSTAMP:20260714T210000Z
DTSTART:20260714T210000Z
DTEND:20260714T220000Z
SUMMARY:Workshop: LEGO Letterpress Printing with Arion Press
DESCRIPTION:<p>Make your own keepsake with a tabletop letterpress and your own design with LEGOS on Provisional Press. Learn about the history of press and letterpress printing. Space limited. Reservations required: (415) 355-5757.</p><p>Connect: <a href="https://arionpress.com/">Arion Press – Website</a></p>
LOCATION:Bayview/Linda Brooks-Burton - Bayview Meeting Room
CLASS:PUBLIC
TRANSP:TRANSPARENT
END:VEVENT
BEGIN:VALARM
TRIGGER:-PT1440M
ACTION:DISPLAY
DESCRIPTION:Event Reminder - Workshop: LEGO Letterpress Printing with Arion Press
END:VALARM
END:VCALENDAR