BEGIN:VCALENDAR
VERSION:2.0
PRODID:SFPL Web Calendar
BEGIN:VEVENT
UID:155008@sfpl.org
DTSTAMP:20260524T230000Z
DTSTART:20260524T230000Z
DTEND:20260525T000000Z
SUMMARY:Social: Teenage Mutant Ninja Turtles Shredder's Revenge
DESCRIPTION:<p>Bring your&nbsp;friends or meet other gamers at our game day.&nbsp;</p><p>We will be playing Teenage Mutant Ninja Turtles Shredder's Revenge for the Nintendo Switch&nbsp;on the big screen.</p><p>For ages 12–18.</p>
LOCATION:Main Library - Mix: Lounge - 2nd Fl
CLASS:PUBLIC
TRANSP:TRANSPARENT
END:VEVENT
BEGIN:VALARM
TRIGGER:-PT1440M
ACTION:DISPLAY
DESCRIPTION:Event Reminder - Social: Teenage Mutant Ninja Turtles Shredder's Revenge
END:VALARM
END:VCALENDAR