BEGIN:VCALENDAR
VERSION:2.0
PRODID:SFPL Web Calendar
BEGIN:VEVENT
UID:155015@sfpl.org
DTSTAMP:20260613T173000Z
DTSTART:20260613T173000Z
DTEND:20260613T183000Z
SUMMARY:Activity: Story Dice
DESCRIPTION:<p>Roll dice to create a story. Design with us and double the inspiration.&nbsp;</p><p>Welcome to our Storyteller Summer.&nbsp;</p><p>For ages 8-18.</p>
LOCATION:Parkside - Parkside Teen's Area
CLASS:PUBLIC
TRANSP:TRANSPARENT
END:VEVENT
BEGIN:VALARM
TRIGGER:-PT1440M
ACTION:DISPLAY
DESCRIPTION:Event Reminder - Activity: Story Dice
END:VALARM
END:VCALENDAR