BEGIN:VCALENDAR
VERSION:2.0
PRODID:SFPL Web Calendar
BEGIN:VEVENT
UID:155030@sfpl.org
DTSTAMP:20260711T173000Z
DTSTART:20260711T173000Z
DTEND:20260712T003000Z
SUMMARY:Social: Magic Mailbox
DESCRIPTION:<p>Write a message to the library. See what answers we come up with. Throughout the day we will have magic mailboxes for you to seek out and perhaps retrieve a small surprise.</p><p>For ages 8–18.</p>
LOCATION:Parkside - Parkside Teen's Area
CLASS:PUBLIC
TRANSP:TRANSPARENT
END:VEVENT
BEGIN:VALARM
TRIGGER:-PT1440M
ACTION:DISPLAY
DESCRIPTION:Event Reminder - Social: Magic Mailbox
END:VALARM
END:VCALENDAR