BEGIN:VCALENDAR
VERSION:2.0
PRODID:SFPL Web Calendar
BEGIN:VEVENT
UID:155163@sfpl.org
DTSTAMP:20260809T210000Z
DTSTART:20260809T210000Z
DTEND:20260809T220000Z
SUMMARY:Workshop: Beginner Ukulele Lessons
DESCRIPTION:<p>Learn the basics of the instrument including simple chord shapes and strumming patterns. Everything you need to start playing your first songs on the ukulele. We will have instruments available for attendees and encourage participants to bring their own.&nbsp;</p><p>Ages 7–13. Space limited. Reservations required: (415) 355-5660 (Starting July 12).</p>
LOCATION:Portola - Portola Meeting Room
CLASS:PUBLIC
TRANSP:TRANSPARENT
END:VEVENT
BEGIN:VALARM
TRIGGER:-PT1440M
ACTION:DISPLAY
DESCRIPTION:Event Reminder - Workshop: Beginner Ukulele Lessons
END:VALARM
END:VCALENDAR