BEGIN:VCALENDAR
VERSION:2.0
PRODID:SFPL Web Calendar
BEGIN:VEVENT
UID:155191@sfpl.org
DTSTAMP:20260710T220000Z
DTSTART:20260710T220000Z
DTEND:20260710T230000Z
SUMMARY:Activity: Slime Laboratory and Sensory Fun
DESCRIPTION:<p>Join our DIY slime program and learn the science behind the squish. Participants will mix, color and customize their own gooey creations. Please dress accordingly and prepare for the messy fun. For children ages 5 and older. Space limited. Registration required: (415) 355-5717 &nbsp;(starting June 26).&nbsp;</p>
LOCATION:Anza - Anza Meeting Room
CLASS:PUBLIC
TRANSP:TRANSPARENT
END:VEVENT
BEGIN:VALARM
TRIGGER:-PT1440M
ACTION:DISPLAY
DESCRIPTION:Event Reminder - Activity: Slime Laboratory and Sensory Fun
END:VALARM
END:VCALENDAR