BEGIN:VCALENDAR
VERSION:2.0
PRODID:SFPL Web Calendar
BEGIN:VEVENT
UID:155227@sfpl.org
DTSTAMP:20260716T170000Z
DTSTART:20260716T170000Z
DTEND:20260716T183000Z
SUMMARY:Activity: Seed Balls with Fog City Gardener
DESCRIPTION:<p>Learn about sustaining our bee pollinators while making seed balls, with local garden and farming advocates, Blas Craig Herrera and Jamie Chan. For children and their caregivers.</p><p><strong>This is an outdoor event. Space limited. Seats available first come, first served.</strong></p>
LOCATION:Bookmobiles / Mobile Outreach
CLASS:PUBLIC
TRANSP:TRANSPARENT
END:VEVENT
BEGIN:VALARM
TRIGGER:-PT1440M
ACTION:DISPLAY
DESCRIPTION:Event Reminder - Activity: Seed Balls with Fog City Gardener
END:VALARM
END:VCALENDAR