BEGIN:VCALENDAR
VERSION:2.0
PRODID:SFPL Web Calendar
BEGIN:VEVENT
UID:155241@sfpl.org
DTSTAMP:20260823T210000Z
DTSTART:20260823T210000Z
DTEND:20260823T220000Z
SUMMARY:Activity: Giant Jenga
DESCRIPTION:<p>Meet the giant challenge of removing blocks from a 4-foot tower before it falls. For ages 8 and older.</p>
LOCATION:Noe Valley/Sally Brunn - Noe Valley Meeting Room
CLASS:PUBLIC
TRANSP:TRANSPARENT
END:VEVENT
BEGIN:VALARM
TRIGGER:-PT1440M
ACTION:DISPLAY
DESCRIPTION:Event Reminder - Activity: Giant Jenga
END:VALARM
END:VCALENDAR