BEGIN:VCALENDAR
VERSION:2.0
PRODID:SFPL Web Calendar
BEGIN:VEVENT
UID:155264@sfpl.org
DTSTAMP:20260720T200000Z
DTSTART:20260720T200000Z
DTEND:20260720T220000Z
SUMMARY:Workshop: Rising Creators
DESCRIPTION:<p>Explore entrepreneurship with uCreate through a 5-week, activity-based introduction to the art business world. Build projects collaboratively while developing skills in marketing, operations, and creative production. For ages 12–18.</p>
LOCATION:Main Library - Mix: Lounge - 2nd Fl
CLASS:PUBLIC
TRANSP:TRANSPARENT
END:VEVENT
BEGIN:VALARM
TRIGGER:-PT1440M
ACTION:DISPLAY
DESCRIPTION:Event Reminder - Workshop: Rising Creators
END:VALARM
END:VCALENDAR