BEGIN:VCALENDAR
VERSION:2.0
PRODID:SFPL Web Calendar
BEGIN:VEVENT
UID:155404@sfpl.org
DTSTAMP:20260707T213000Z
DTSTART:20260707T213000Z
DTEND:20260707T223000Z
SUMMARY:Activity: Magnetic Sand
DESCRIPTION:<p>Learn where the black sand at Ocean Beach comes from and what makes it special. &nbsp;For children and their caregivers.&nbsp;</p><p>This is an outdoor event.&nbsp;</p><p>Connect: <a href="https://sunsetdunes.org/">Friends of Sunset Dunes – Website</a></p>
LOCATION:Bookmobiles / Mobile Outreach
CLASS:PUBLIC
TRANSP:TRANSPARENT
END:VEVENT
BEGIN:VALARM
TRIGGER:-PT1440M
ACTION:DISPLAY
DESCRIPTION:Event Reminder - Activity: Magnetic Sand
END:VALARM
END:VCALENDAR