BEGIN:VCALENDAR
VERSION:2.0
PRODID:SFPL Web Calendar
BEGIN:VEVENT
UID:155414@sfpl.org
DTSTAMP:20260623T230000Z
DTSTART:20260623T230000Z
DTEND:20260623T234500Z
SUMMARY:Presentation: Fur, Scales and Tails Animal Show with Tracy Hill
DESCRIPTION:<p>Learn about wildlife, see some critters close-up and pet some of your favorite animal stars with Tracy Hill’s animal show. For children and their families.</p>
LOCATION:Golden Gate Valley - Golden Gate Valley Meeting Room
CLASS:PUBLIC
TRANSP:TRANSPARENT
END:VEVENT
BEGIN:VALARM
TRIGGER:-PT1440M
ACTION:DISPLAY
DESCRIPTION:Event Reminder - Presentation: Fur, Scales and Tails Animal Show with Tracy Hill
END:VALARM
END:VCALENDAR