BEGIN:VCALENDAR
VERSION:2.0
PRODID:SFPL Web Calendar
BEGIN:VEVENT
UID:155432@sfpl.org
DTSTAMP:20260628T210000Z
DTSTART:20260628T210000Z
DTEND:20260628T230000Z
SUMMARY:Social: Sunday Swap, Clothing for School-Age Children
DESCRIPTION:<p>Get ready for the new school year by cleaning out and refilling your children's closet.</p><p>Bring any gently-used children's clothing, accessories and shoes&nbsp;for students ages 5–10. Items should be stain-free, in good condition and require little to no repair. Please bring your own bags. Leftover clothing will be donated.</p><p>Glen Park Branch Library hosts themed swaps to reduce waste and increase community connections. Please let us know if you'd like to see a specific theme at a future community swap meet.</p><p><br>&nbsp;</p>
LOCATION:Glen Park - Glen Park Meeting Room
CLASS:PUBLIC
TRANSP:TRANSPARENT
END:VEVENT
BEGIN:VALARM
TRIGGER:-PT1440M
ACTION:DISPLAY
DESCRIPTION:Event Reminder - Social: Sunday Swap, Clothing for School-Age Children
END:VALARM
END:VCALENDAR