BEGIN:VCALENDAR
VERSION:2.0
PRODID:SFPL Web Calendar
BEGIN:VEVENT
UID:155443@sfpl.org
DTSTAMP:20260423T223000Z
DTSTART:20260423T223000Z
DTEND:20260424T000000Z
SUMMARY:Social: Pokémon Trading Card Game Club
DESCRIPTION:<p>Learn to play the Pokémon Trading Card Game or help teach someone else to play. We'll meet twice a month to do all things Pokémon. Decks and level one gameboards available to participants. For ages 6–13.</p>
LOCATION:Richmond/Senator Milton Marks - Richmond Meeting Room
CLASS:PUBLIC
TRANSP:TRANSPARENT
END:VEVENT
BEGIN:VALARM
TRIGGER:-PT1440M
ACTION:DISPLAY
DESCRIPTION:Event Reminder - Social: Pokémon Trading Card Game Club
END:VALARM
END:VCALENDAR