BEGIN:VCALENDAR
VERSION:2.0
PRODID:SFPL Web Calendar
BEGIN:VEVENT
UID:155679@sfpl.org
DTSTAMP:20260414T210000Z
DTSTART:20260414T210000Z
DTEND:20260414T220000Z
SUMMARY:Postponed: Tutorial: Tech Time
DESCRIPTION:<p><i><strong>This program has been postponed to&nbsp;Tuesday, May 12, 2 pm. Thank you for your interest in our programs.</strong></i></p><p>Get comfortable using the library’s online resources in a relaxed learning environment. Participants may bring their own devices or borrow a library laptop for in–library use.</p>
LOCATION:Marina - Marina General Floor Area
CLASS:PUBLIC
TRANSP:TRANSPARENT
END:VEVENT
BEGIN:VALARM
TRIGGER:-PT1440M
ACTION:DISPLAY
DESCRIPTION:Event Reminder - Postponed: Tutorial: Tech Time
END:VALARM
END:VCALENDAR