BEGIN:VCALENDAR
VERSION:2.0
PRODID:SFPL Web Calendar
BEGIN:VEVENT
UID:155694@sfpl.org
DTSTAMP:20260708T220000Z
DTSTART:20260708T220000Z
DTEND:20260708T230000Z
SUMMARY:Activity: Friendship Bracelets
DESCRIPTION:<p>Design and create your own one-of-a-kind beaded necklace or bracelet. For ages 10 and older.&nbsp;</p>
LOCATION:Sunset - Sunset Program Room
CLASS:PUBLIC
TRANSP:TRANSPARENT
END:VEVENT
BEGIN:VALARM
TRIGGER:-PT1440M
ACTION:DISPLAY
DESCRIPTION:Event Reminder - Activity: Friendship Bracelets
END:VALARM
END:VCALENDAR