BEGIN:VCALENDAR
VERSION:2.0
PRODID:SFPL Web Calendar
BEGIN:VEVENT
UID:155725@sfpl.org
DTSTAMP:20260603T230000Z
DTSTART:20260603T230000Z
DTEND:20260604T000000Z
SUMMARY:Workshop: DIY Boondoggle
DESCRIPTION:<p>Get ready to twist, weave and knot! This workshop teaches the art and science of lacing with plastic. Participants create their personalized vibrant keychains or accessories. &nbsp;Perfect for all skill levels. For children ages 8 and older.&nbsp;</p>
LOCATION:Anza - Anza General Floor Area
CLASS:PUBLIC
TRANSP:TRANSPARENT
END:VEVENT
BEGIN:VALARM
TRIGGER:-PT1440M
ACTION:DISPLAY
DESCRIPTION:Event Reminder - Workshop: DIY Boondoggle
END:VALARM
END:VCALENDAR