BEGIN:VCALENDAR
VERSION:2.0
PRODID:SFPL Web Calendar
BEGIN:VEVENT
UID:155726@sfpl.org
DTSTAMP:20260702T220000Z
DTSTART:20260702T220000Z
DTEND:20260702T230000Z
SUMMARY:Social: Tabletop Board Games
DESCRIPTION:<p>Choose a board or card game to play with family and friends. For children and their caregivers.&nbsp;</p>
LOCATION:Anza - Anza Meeting Room
CLASS:PUBLIC
TRANSP:TRANSPARENT
END:VEVENT
BEGIN:VALARM
TRIGGER:-PT1440M
ACTION:DISPLAY
DESCRIPTION:Event Reminder - Social: Tabletop Board Games
END:VALARM
END:VCALENDAR