BEGIN:VCALENDAR
VERSION:2.0
PRODID:SFPL Web Calendar
BEGIN:VEVENT
UID:155735@sfpl.org
DTSTAMP:20260808T210000Z
DTSTART:20260808T210000Z
DTEND:20260808T220000Z
SUMMARY:Workshop: See Like an Artist, Observational Sketching with Sendy Santamaria
DESCRIPTION:<p>Practice observational sketching with 2024 Summer Stride artist and author, Sendy Santamaria. Spend time in the Library's courtyard and watch a sketching demonstration by Santamaria. Attempt to capture a moment with a free art kit, including mini notebook and pencil, on your own. Share your work with other participants. Children under 8 years must be accompanied by a parent or caregiver. Space limited. Reservations required: (415) 355-2898.&nbsp;</p><p>&nbsp;</p>
LOCATION:Ingleside - Ingleside Meeting Room
CLASS:PUBLIC
TRANSP:TRANSPARENT
END:VEVENT
BEGIN:VALARM
TRIGGER:-PT1440M
ACTION:DISPLAY
DESCRIPTION:Event Reminder - Workshop: See Like an Artist, Observational Sketching with Sendy Santamaria
END:VALARM
END:VCALENDAR