BEGIN:VCALENDAR
VERSION:2.0
PRODID:SFPL Web Calendar
BEGIN:VEVENT
UID:155818@sfpl.org
DTSTAMP:20260813T170000Z
DTSTART:20260813T170000Z
DTEND:20260813T174500Z
SUMMARY:Performance: La Familia Peña-Govea
DESCRIPTION:<p>Join the Bookmobile for a special performance by Miguel Govea and Susan Peña, who play and sing traditional songs for children in English and Spanish.&nbsp;</p><p>Drawing from 44 years of partnership, performing, recording, teaching and raising a family, Miguel and Susan sing and play on a variety of acoustic instruments, including: guitar, bass, percussion, accordion, trumpet, and violin. They are frequently joined by one or both of their daughters and grandchildren.</p>
LOCATION:Bookmobiles / Mobile Outreach
CLASS:PUBLIC
TRANSP:TRANSPARENT
END:VEVENT
BEGIN:VALARM
TRIGGER:-PT1440M
ACTION:DISPLAY
DESCRIPTION:Event Reminder - Performance: La Familia Peña-Govea
END:VALARM
END:VCALENDAR