BEGIN:VCALENDAR
VERSION:2.0
PRODID:SFPL Web Calendar
BEGIN:VEVENT
UID:155820@sfpl.org
DTSTAMP:20260809T203000Z
DTSTART:20260809T203000Z
DTEND:20260809T213000Z
SUMMARY:Workshop: Rafael Rope and Bracelets with The Ohlone Sisters
DESCRIPTION:<p>Ohlone Rafael creates hand-crafted ropes and bracelets inspired by Ohlone traditions and teachings. Each piece reflects a deep connection to land, community, and ancestral knowledge, emphasizing care, strength, and balance to the land. Through this work, Rafael honors Indigenous practices while sharing stories of resilience and cultural continuity. participants will be able to take home their rope and bracelet. For ages 5 and older. Space limited. Reservations required: (415) 355-2825.</p><p>Connect: <a href="https://www.costanoanrumsen.org/ohlone-sisters.html">The Ohlone Sisters – Website</a>&nbsp;| <a href="https://www.instagram.com/ohlonesisters/">The Ohlone Sisters – Instagram</a></p>
LOCATION:Merced - Merced Patio
CLASS:PUBLIC
TRANSP:TRANSPARENT
END:VEVENT
BEGIN:VALARM
TRIGGER:-PT1440M
ACTION:DISPLAY
DESCRIPTION:Event Reminder - Workshop: Rafael Rope and Bracelets with The Ohlone Sisters
END:VALARM
END:VCALENDAR