BEGIN:VCALENDAR
VERSION:2.0
PRODID:SFPL Web Calendar
BEGIN:VEVENT
UID:155826@sfpl.org
DTSTAMP:20260812T000000Z
DTSTART:20260812T000000Z
DTEND:20260812T010000Z
SUMMARY:Workshop: Mosaics with Ali Blum
DESCRIPTION:<p>Explore the art of mosaic-making in this hands-on event led by Ali Blum. Participants will design and create their own mosaic using colorful tiles and nature-inspired shapes, learning techniques such as tile cutting, layout and grouting. For ages 12-15.<br>Space limited. Reservations required: (415) 355-2810 or sign-up at the reference desk (starting July 11).</p>
LOCATION:Bernal Heights - Bernal Heights Meeting Room
CLASS:PUBLIC
TRANSP:TRANSPARENT
END:VEVENT
BEGIN:VALARM
TRIGGER:-PT1440M
ACTION:DISPLAY
DESCRIPTION:Event Reminder - Workshop: Mosaics with Ali Blum
END:VALARM
END:VCALENDAR