BEGIN:VCALENDAR
VERSION:2.0
PRODID:SFPL Web Calendar
BEGIN:VEVENT
UID:155829@sfpl.org
DTSTAMP:20260611T220000Z
DTSTART:20260611T220000Z
DTEND:20260611T233000Z
SUMMARY:Workshop: Succulent Planters with Fog City Gardener
DESCRIPTION:<p>Learn about plant care and biology while planting cuttings of succulents to take home, with local garden and farming advocates, Blas Craig Herrera and Jamie Chan. For ages 5–17. Space limited. Reservations required: (415) 355-2810 (starting May 11).</p><p>Connect: <a href="https://www.facebook.com/FogCityGardener/">Fog City Gardener – Facebook</a></p>
LOCATION:Bernal Heights - Bernal Heights Meeting Room
CLASS:PUBLIC
TRANSP:TRANSPARENT
END:VEVENT
BEGIN:VALARM
TRIGGER:-PT1440M
ACTION:DISPLAY
DESCRIPTION:Event Reminder - Workshop: Succulent Planters with Fog City Gardener
END:VALARM
END:VCALENDAR