BEGIN:VCALENDAR
VERSION:2.0
PRODID:SFPL Web Calendar
BEGIN:VEVENT
UID:155928@sfpl.org
DTSTAMP:20260808T180000Z
DTSTART:20260808T180000Z
DTEND:20260808T200000Z
SUMMARY:Workshop: Felt Koala
DESCRIPTION:<p>Learn to make a stuffed felt koala with running stitches and French knots.&nbsp;</p><p>Space limited. Reservations required: (415) 355-5700 or visit Ortega to reserve a spot (starting July 1).</p>
LOCATION:Ortega - Ortega Meeting Room
CLASS:PUBLIC
TRANSP:TRANSPARENT
END:VEVENT
BEGIN:VALARM
TRIGGER:-PT1440M
ACTION:DISPLAY
DESCRIPTION:Event Reminder - Workshop: Felt Koala
END:VALARM
END:VCALENDAR