BEGIN:VCALENDAR
VERSION:2.0
PRODID:SFPL Web Calendar
BEGIN:VEVENT
UID:155991@sfpl.org
DTSTAMP:20260517T210000Z
DTSTART:20260517T210000Z
DTEND:20260517T220000Z
SUMMARY:Workshop: Terrariums with Fog City Gardener
DESCRIPTION:<p>Plant and decorate your own terrarium with local garden and farming advocates, Blas Craig Herrera and Jamie Chan, of Fog City Gardener. For children ages 7 and older.&nbsp;Youth under the age of 8 must be accompanied by an adult. Space limited. Reservations required: (415) 355-5700.</p><p>Connect: <a href="https://www.facebook.com/FogCityGardener/">Fog City Gardener <strong>— </strong>Website</a></p>
LOCATION:Ortega - Ortega Meeting Room
CLASS:PUBLIC
TRANSP:TRANSPARENT
END:VEVENT
BEGIN:VALARM
TRIGGER:-PT1440M
ACTION:DISPLAY
DESCRIPTION:Event Reminder - Workshop: Terrariums with Fog City Gardener
END:VALARM
END:VCALENDAR