BEGIN:VCALENDAR
VERSION:2.0
PRODID:SFPL Web Calendar
BEGIN:VEVENT
UID:156106@sfpl.org
DTSTAMP:20260613T223000Z
DTSTART:20260613T223000Z
DTEND:20260614T000000Z
SUMMARY:Workshop: Block Printing with Double Union
DESCRIPTION:<p>Design and carve simple patterns in rubber and press them on paper to create their own prints. The activity encourages creativity, collaboration, and experimentation with color and repetition. Participants will leave with unique handmade prints and a basic understanding of the block printing process. For ages 8 and older. Participants under 15 should be accompanied by an adult. Space limited. Seats available first come, first served.&nbsp;</p><p>Double Union is a feminist hacker/maker space and community workshop in San Francisco.</p><p>Contact: <a href="https://doubleunion.org/">Double Union - Website</a></p>
LOCATION:Anza - Anza Meeting Room
CLASS:PUBLIC
TRANSP:TRANSPARENT
END:VEVENT
BEGIN:VALARM
TRIGGER:-PT1440M
ACTION:DISPLAY
DESCRIPTION:Event Reminder - Workshop: Block Printing with Double Union
END:VALARM
END:VCALENDAR