BEGIN:VCALENDAR
VERSION:2.0
PRODID:SFPL Web Calendar
BEGIN:VEVENT
UID:156107@sfpl.org
DTSTAMP:20260725T220000Z
DTSTART:20260725T220000Z
DTEND:20260725T230000Z
SUMMARY:hold for Double Union Block printing
DESCRIPTION:<p>awaiting confirmation</p>
LOCATION:Anza - Anza Meeting Room
CLASS:PUBLIC
TRANSP:TRANSPARENT
END:VEVENT
BEGIN:VALARM
TRIGGER:-PT1440M
ACTION:DISPLAY
DESCRIPTION:Event Reminder - hold for Double Union Block printing
END:VALARM
END:VCALENDAR