BEGIN:VCALENDAR
VERSION:2.0
PRODID:SFPL Web Calendar
BEGIN:VEVENT
UID:156403@sfpl.org
DTSTAMP:20260625T210000Z
DTSTART:20260625T210000Z
DTEND:20260625T220000Z
SUMMARY:Workshop: Summer Thaumatrope
DESCRIPTION:<p>Create a summer themed thaumatrope while exploring the optical illusion of motion and animation. For ages 6–12. Space limited. Reservations required: (415) 355-2889.</p>
LOCATION:Chinatown/Him Mark Lai - Chinatown Meeting Room
CLASS:PUBLIC
TRANSP:TRANSPARENT
END:VEVENT
BEGIN:VALARM
TRIGGER:-PT1440M
ACTION:DISPLAY
DESCRIPTION:Event Reminder - Workshop: Summer Thaumatrope
END:VALARM
END:VCALENDAR