BEGIN:VCALENDAR
VERSION:2.0
PRODID:SFPL Web Calendar
BEGIN:VEVENT
UID:156544@sfpl.org
DTSTAMP:20260419T213000Z
DTSTART:20260419T213000Z
DTEND:20260419T230000Z
SUMMARY:Workshop: Makerspace
DESCRIPTION:<p>Learn how to draw digitally with Procreate on an iPad, make buttons, use the rainbow loom or game on the Nintendo Switch. Dive into a world of creativity and fun. For ages 8–12.</p>
LOCATION:Main Library - Children's Creative Center - 2nd Fl
CLASS:PUBLIC
TRANSP:TRANSPARENT
END:VEVENT
BEGIN:VALARM
TRIGGER:-PT1440M
ACTION:DISPLAY
DESCRIPTION:Event Reminder - Workshop: Makerspace
END:VALARM
END:VCALENDAR