BEGIN:VCALENDAR
VERSION:2.0
PRODID:SFPL Web Calendar
BEGIN:VEVENT
UID:156560@sfpl.org
DTSTAMP:20260616T191500Z
DTSTART:20260616T191500Z
DTEND:20260616T201500Z
SUMMARY:Services: Lunch at the Library
DESCRIPTION:<p>Fuel your child's summer days with free, nutritious lunches at the Library, June 10 through August 16. There are no income restrictions in order to receive a meal. For ages 0–18. Space limited. Seats available first come, first served.</p><p>On the Second Wednesday of every month before lunch (at 11:30am), stretch and unwind before lunch with family yoga hosted by&nbsp;<a href="https://www.itsyogakids.com/">It's Yoga Kids</a>.</p><p>Since 2014, San Francisco Public Library and the <a href="https://www.dcyf.org/">Department of Children, Youth and Their Families</a> have teamed up to provide nourishing meals and community connection for young people across the city.</p>
LOCATION:Main Library - Children's Creative Center - 2nd Fl
CLASS:PUBLIC
TRANSP:TRANSPARENT
END:VEVENT
BEGIN:VALARM
TRIGGER:-PT1440M
ACTION:DISPLAY
DESCRIPTION:Event Reminder - Services: Lunch at the Library
END:VALARM
END:VCALENDAR