BEGIN:VCALENDAR
VERSION:2.0
PRODID:SFPL Web Calendar
BEGIN:VEVENT
UID:156607@sfpl.org
DTSTAMP:20260512T230000Z
DTSTART:20260512T230000Z
DTEND:20260513T000000Z
SUMMARY:Book Club: Banned Books 250 reads George Orwell's 1984
DESCRIPTION:<p>Discuss a classic dystopian novel that explores surveillance, power and resistance. George Orwell’s <a href="https://sfpl.bibliocommons.com/v2/record/S93C1199830"><i>1984</i></a> imagines a totalitarian society where truth is controlled and individuality is suppressed. Reflect on the novel’s themes and their continued relevance in today’s world.</p><p>This book club is part of <a href="https://bookbindersmuseum.org/exhibition/banned-books-250/"><i>Banned Books 250</i></a>, a special exhibition on view May 16–August 29, 2026 at the American Bookbinders Museum. This 250-year retrospective traces how books have been challenged, restricted, and suppressed—from early colonial bans to today’s debates over identity, sexuality, and free expression—offering a deeper look at the ongoing struggle between censorship and the right to read.&nbsp; View the complete <a href="https://sfpl.bibliocommons.com/v2/list/display/433865467/2987093437">Banned Books 250 exhibit booklist</a>.</p>
LOCATION:Main Library
CLASS:PUBLIC
TRANSP:TRANSPARENT
END:VEVENT
BEGIN:VALARM
TRIGGER:-PT1440M
ACTION:DISPLAY
DESCRIPTION:Event Reminder - Book Club: Banned Books 250 reads George Orwell's 1984
END:VALARM
END:VCALENDAR