BEGIN:VCALENDAR
VERSION:2.0
PRODID:SFPL Web Calendar
BEGIN:VEVENT
UID:156646@sfpl.org
DTSTAMP:20260508T210000Z
DTSTART:20260508T210000Z
DTEND:20260509T000000Z
SUMMARY:Social: Mother's Day Photo Booth and Crafts
DESCRIPTION:<p>Swing by the library's Mother’s Day Photo Booth, where you can craft timeless memories with your cherished ones! Whip up a delightful greeting card to go along with your freshly printed photo, giving you keepsakes to cherish forever!</p><p>&nbsp;</p><p>Visite el fotomatón del Día de la Madre en la biblioteca, donde podrá crear recuerdos inolvidables con sus seres queridos. Elabore una encantadora tarjeta para acompañar esa foto recién impresas, proporcionándole recuerdos que atesorará para siempre.</p>
LOCATION:Mission - Mission General Floor Area
CLASS:PUBLIC
TRANSP:TRANSPARENT
END:VEVENT
BEGIN:VALARM
TRIGGER:-PT1440M
ACTION:DISPLAY
DESCRIPTION:Event Reminder - Social: Mother's Day Photo Booth and Crafts
END:VALARM
END:VCALENDAR