BEGIN:VCALENDAR
VERSION:2.0
PRODID:SFPL Web Calendar
BEGIN:VEVENT
UID:156776@sfpl.org
DTSTAMP:20260707T220000Z
DTSTART:20260707T220000Z
DTEND:20260707T230000Z
SUMMARY:Workshop: Weave Yourself Into Your Story with Cristina Edwards
DESCRIPTION:<p>Make a bookmark, wall hanging or patch with local textile artist Cristina Edwards while learning about weaving throughout the world. Learn the embodied practice of creating fabric by hand. Participants will receive a small loom and supplies to take home and continue weaving at home. Space limited.</p><p>Cristina Edwards is a multiracial Filipina, multidisciplinary artist based in Oakland, CA. Her community art workshops foster community connection and environmental awareness through accessible arts programming. She hosts arts workshops all over the Bay Area.</p><p>Contact: <a href="cristinaedwards.com">Cristina Edwards - Website</a></p>
LOCATION:Marina - Marina General Floor Area
CLASS:PUBLIC
TRANSP:TRANSPARENT
END:VEVENT
BEGIN:VALARM
TRIGGER:-PT1440M
ACTION:DISPLAY
DESCRIPTION:Event Reminder - Workshop: Weave Yourself Into Your Story with Cristina Edwards
END:VALARM
END:VCALENDAR