BEGIN:VCALENDAR
VERSION:2.0
PRODID:SFPL Web Calendar
BEGIN:VEVENT
UID:156777@sfpl.org
DTSTAMP:20260612T003000Z
DTSTART:20260612T003000Z
DTEND:20260612T011500Z
SUMMARY:Performance: DíaPaSón presents La reSONancia del Barrio
DESCRIPTION:<p>DíaPaSón is a music ensemble specializing in Mexican music traditions, especially son jarocho. Each performance of DíaPaSón is a polyrhythmic delight of lyric and melodic improvisation. Voices accompanied by primarily stringed and percussive handcrafted instruments of natural materials create a dynamic, rustic sound that tells ancient and modern tales of our communities. Hundreds of years old, the son jarocho is a living, contemporary art form that continues to evolve with time and under the influences of trans-cultural exchange and inter-generational dialogue.</p><p>&nbsp;</p>
LOCATION:Marina - Marina Back Courtyard
CLASS:PUBLIC
TRANSP:TRANSPARENT
END:VEVENT
BEGIN:VALARM
TRIGGER:-PT1440M
ACTION:DISPLAY
DESCRIPTION:Event Reminder - Performance: DíaPaSón presents La reSONancia del Barrio
END:VALARM
END:VCALENDAR