BEGIN:VCALENDAR
VERSION:2.0
PRODID:SFPL Web Calendar
BEGIN:VEVENT
UID:156882@sfpl.org
DTSTAMP:20260518T210000Z
DTSTART:20260518T210000Z
DTEND:20260518T220000Z
SUMMARY:Presentation: From Awareness to Action — AAPI Elder Abuse Intervention
DESCRIPTION:<p>This presentation addresses the specific types of disrespect from microaggressions to outright violence that Asian American Pacific Islander communities experience. It is designed to empower AAPI older and dependent adults, allies and community members with the confidence to prevent, interrupt and heal from violence and abuse. This talk is a collaboration between <a href="https://www.ioaging.org/">The Institute on Aging San Francisco</a>,<a href="https://www.cycsf.org/"> The Community Youth Center</a> and the <a href="https://www.sf.gov/departments--mayors-office-for-victims-rights">Mayor’s Office for Victims’ Rights</a>.</p>
LOCATION:Mission Bay - Mission Bay Program Room
CLASS:PUBLIC
TRANSP:TRANSPARENT
END:VEVENT
BEGIN:VALARM
TRIGGER:-PT1440M
ACTION:DISPLAY
DESCRIPTION:Event Reminder - Presentation: From Awareness to Action — AAPI Elder Abuse Intervention
END:VALARM
END:VCALENDAR