BEGIN:VCALENDAR
VERSION:2.0
PRODID:SFPL Web Calendar
BEGIN:VEVENT
UID:156921@sfpl.org
DTSTAMP:20260603T210000Z
DTSTART:20260603T210000Z
DTEND:20260603T220000Z
SUMMARY:Workshop: Write Your Own Obituary
DESCRIPTION:<p>Preserve the details of your life by writing your own obituary and providing for its publication in your legacy planning.&nbsp;&nbsp;</p><p>Learn the basics of obituary informational content and style from the experts in the Magazines and Newspapers Center, librarians who service dozens of <a href="https://sfpl.org/locations/main-library/magazines-newspapers-center/obituary-search-request">obituary requests</a> every month. Obituaries, traditionally published in newspapers, are also known as death notices, funeral announcements or life tributes and require a fee to be published, whether they appear in a newspaper, on a memorial website or as a function of the services of a mortuary/crematorium. These information sources communicate the basics of a person’s birth, life and death; name close relatives of the decedent; and sometimes tell a colorful biography about a person’s impact on the lives of their loved ones.&nbsp;&nbsp;</p><p>Obituaries are useful to contemporary mourners as well as to future genealogists, so don’t leave them out of your legacy planning—join our program to make sure your story lives after your death.&nbsp;&nbsp;</p>
LOCATION:Virtual Library
CLASS:PUBLIC
TRANSP:TRANSPARENT
END:VEVENT
BEGIN:VALARM
TRIGGER:-PT1440M
ACTION:DISPLAY
DESCRIPTION:Event Reminder - Workshop: Write Your Own Obituary
END:VALARM
END:VCALENDAR