BEGIN:VCALENDAR
VERSION:2.0
PRODID:SFPL Web Calendar
BEGIN:VEVENT
UID:24784@sfpl.org
DTSTAMP:20200208T210000Z
DTSTART:20200208T210000Z
DTEND:20200209T010000Z
SUMMARY:Celebration: Open House
DESCRIPTION:<p>Join us for our Annual Open House and Chinese New Year Celebration. The Year of the Rat where the fun starts at 1 pm.</p>
<p>1:00 pm to 2:00 pm: Join The Flying Angles Chinese Dance Company for a traditional and modern Chinese dance perfromance. All ages.</p>
<p>3:00 pm to 3:45 pm: Local author Oliver Chin reads from his newest children's picture book The Year of the Rat (the latest adventure in the popular series Tales from the Chinese Zodiac) in a multimedia presentation for the whole family. For kids ages 4 and up.</p>
<p>Enjoy dim sum, snacks, and refreshments.</p>
LOCATION:Presidio - Presidio Meeting Room
CLASS:PUBLIC
TRANSP:TRANSPARENT
END:VEVENT
BEGIN:VALARM
TRIGGER:-PT1440M
ACTION:DISPLAY
DESCRIPTION:Event Reminder - Celebration: Open House
END:VALARM
END:VCALENDAR